BEGIN:VCALENDAR
VERSION:2.0
PRODID:-//Alde Düsseldorfer - ECPv6.15.20//NONSGML v1.0//EN
CALSCALE:GREGORIAN
METHOD:PUBLISH
X-WR-CALNAME:Alde Düsseldorfer
X-ORIGINAL-URL:https://www.alde-duesseldorfer.de
X-WR-CALDESC:Veranstaltungen für Alde Düsseldorfer
REFRESH-INTERVAL;VALUE=DURATION:PT1H
X-Robots-Tag:noindex
X-PUBLISHED-TTL:PT1H
BEGIN:VTIMEZONE
TZID:Europe/Berlin
BEGIN:DAYLIGHT
TZOFFSETFROM:+0100
TZOFFSETTO:+0200
TZNAME:CEST
DTSTART:20160327T010000
END:DAYLIGHT
BEGIN:STANDARD
TZOFFSETFROM:+0200
TZOFFSETTO:+0100
TZNAME:CET
DTSTART:20161030T010000
END:STANDARD
BEGIN:DAYLIGHT
TZOFFSETFROM:+0100
TZOFFSETTO:+0200
TZNAME:CEST
DTSTART:20170326T010000
END:DAYLIGHT
BEGIN:STANDARD
TZOFFSETFROM:+0200
TZOFFSETTO:+0100
TZNAME:CET
DTSTART:20171029T010000
END:STANDARD
BEGIN:DAYLIGHT
TZOFFSETFROM:+0100
TZOFFSETTO:+0200
TZNAME:CEST
DTSTART:20180325T010000
END:DAYLIGHT
BEGIN:STANDARD
TZOFFSETFROM:+0200
TZOFFSETTO:+0100
TZNAME:CET
DTSTART:20181028T010000
END:STANDARD
END:VTIMEZONE
BEGIN:VEVENT
DTSTART;VALUE=DATE:20170709
DTEND;VALUE=DATE:20170710
DTSTAMP:20260421T101231
CREATED:20170428T162032Z
LAST-MODIFIED:20170429T060435Z
UID:594-1499558400-1499644799@www.alde-duesseldorfer.de
SUMMARY:68. Stadtsparkasse Düsseldorf Radschläger-Turnier
DESCRIPTION:68. Stadtsparkasse Düsseldorf Radschlägerturnier der Landeshauptstadt Düsseldorf\nDAS Traditionsturnier der Landeshauptstadt Düsseldorf! Unter der Schirmherrschaft unseres Alde-Mitglieds Oberbürgermeister Geisel messen sich wieder mehrere Düsseldorfer Schülerinnen und Schüler am Rhein im Radschlagen. \nGemeinsam mit der Hauptsponsorin Stadtsparkasse Düsseldorf und dem Oberbürgermeister eröffnet der Baas um 14:30 Uhr die Finalläufe. Am Vormittag finden die Qualifikationsläufe in verschiedenen Klassen statt. \nWir sind für helfende Hände dankbar und bitten alle\, die uns beim Aufbau ab 8:00 Uhr am Veranstaltungstag unterstützen möchten\, sich hier über die Internetseite anzumelden. Herzlichen Dank für die Unterstützung. \nACHTUNG: über unsere Seite ist K E I N E Anmeldung für Kinder möglich. Die Anmeldeunterlagen werden an die D Ü S S E L D O R F E R Schulen verteilt. Für Fragen zu den Anmeldungen stehen ausschließlich die Sekretariate zur Verfügung. \n\nOrt: Unteres Rheinwerft\, südliche Bastei Schulstraße\, Carlstadt \nTeilen
URL:https://www.alde-duesseldorfer.de/veranstaltungen/594/
LOCATION:Düsseldorf\, Schulstraße\, Düsseldorf\, Deutschland
CATEGORIES:Radschlägerturnier
END:VEVENT
END:VCALENDAR