BEGIN:VCALENDAR
VERSION:2.0
PRODID:-//Alde Düsseldorfer - ECPv6.15.20//NONSGML v1.0//EN
CALSCALE:GREGORIAN
METHOD:PUBLISH
X-WR-CALNAME:Alde Düsseldorfer
X-ORIGINAL-URL:https://www.alde-duesseldorfer.de
X-WR-CALDESC:Veranstaltungen für Alde Düsseldorfer
REFRESH-INTERVAL;VALUE=DURATION:PT1H
X-Robots-Tag:noindex
X-PUBLISHED-TTL:PT1H
BEGIN:VTIMEZONE
TZID:Europe/Berlin
BEGIN:DAYLIGHT
TZOFFSETFROM:+0100
TZOFFSETTO:+0200
TZNAME:CEST
DTSTART:20250330T010000
END:DAYLIGHT
BEGIN:STANDARD
TZOFFSETFROM:+0200
TZOFFSETTO:+0100
TZNAME:CET
DTSTART:20251026T010000
END:STANDARD
BEGIN:DAYLIGHT
TZOFFSETFROM:+0100
TZOFFSETTO:+0200
TZNAME:CEST
DTSTART:20260329T010000
END:DAYLIGHT
BEGIN:STANDARD
TZOFFSETFROM:+0200
TZOFFSETTO:+0100
TZNAME:CET
DTSTART:20261025T010000
END:STANDARD
BEGIN:DAYLIGHT
TZOFFSETFROM:+0100
TZOFFSETTO:+0200
TZNAME:CEST
DTSTART:20270328T010000
END:DAYLIGHT
BEGIN:STANDARD
TZOFFSETFROM:+0200
TZOFFSETTO:+0100
TZNAME:CET
DTSTART:20271031T010000
END:STANDARD
END:VTIMEZONE
BEGIN:VEVENT
DTSTART;TZID=Europe/Berlin:20260501T110000
DTEND;TZID=Europe/Berlin:20260501T140000
DTSTAMP:20260424T104307
CREATED:20260407T074633Z
LAST-MODIFIED:20260416T141331Z
UID:4638-1777633200-1777644000@www.alde-duesseldorfer.de
SUMMARY:Jahresempfang der Alde Düsseldorfer im Schloss Jägerhof
DESCRIPTION:Wir freuen uns\, Euch am 01. Mai 2026 zu unserem Jahresempfang im Schloss Jägerhof begrüßen zu können. \nIm Rahmen der Veranstaltung bedanken wir uns bei unseren Sponsoren\, Gönnern und Freunden für die Unterstützung. Gleichzeitig ehren wir langjährige Mitglieder der Bürgergesellschaft für die Treue und genießen beste musikalische Unterhaltung durch die Camerata Louis Spohr. \nIm 1. OG besteht dann die Möglichkeit\, bei einem Glas Wein mit den anderen Gästen ins  Gespräch zu kommen. \nWir bitten aufgrund des begrenzten Platzangebots um Eure Anmeldungen. Gerne kann hierzu auch die Anmeldung über die Homepage genutzt werden. \nÜere Vörstand \nTeilen
URL:https://www.alde-duesseldorfer.de/veranstaltungen/jahresempfang-der-alde-duesseldorfer-im-schloss-jaegerhof-3/
LOCATION:Schloss Jägerhof\, Jacobistraße 2\, Düsseldorf\, Deutschland
CATEGORIES:Jahresempfang
ATTACH;FMTTYPE=image/bmp:https://www.alde-duesseldorfer.de/wp-content/uploads/2017/11/Goethe-Museum.bmp
END:VEVENT
END:VCALENDAR