BEGIN:VCALENDAR
VERSION:2.0
PRODID:-//Alde Düsseldorfer - ECPv6.15.20//NONSGML v1.0//EN
CALSCALE:GREGORIAN
METHOD:PUBLISH
X-ORIGINAL-URL:https://www.alde-duesseldorfer.de
X-WR-CALDESC:Veranstaltungen für Alde Düsseldorfer
REFRESH-INTERVAL;VALUE=DURATION:PT1H
X-Robots-Tag:noindex
X-PUBLISHED-TTL:PT1H
BEGIN:VTIMEZONE
TZID:Europe/Berlin
BEGIN:DAYLIGHT
TZOFFSETFROM:+0100
TZOFFSETTO:+0200
TZNAME:CEST
DTSTART:20250330T010000
END:DAYLIGHT
BEGIN:STANDARD
TZOFFSETFROM:+0200
TZOFFSETTO:+0100
TZNAME:CET
DTSTART:20251026T010000
END:STANDARD
BEGIN:DAYLIGHT
TZOFFSETFROM:+0100
TZOFFSETTO:+0200
TZNAME:CEST
DTSTART:20260329T010000
END:DAYLIGHT
BEGIN:STANDARD
TZOFFSETFROM:+0200
TZOFFSETTO:+0100
TZNAME:CET
DTSTART:20261025T010000
END:STANDARD
BEGIN:DAYLIGHT
TZOFFSETFROM:+0100
TZOFFSETTO:+0200
TZNAME:CEST
DTSTART:20270328T010000
END:DAYLIGHT
BEGIN:STANDARD
TZOFFSETFROM:+0200
TZOFFSETTO:+0100
TZNAME:CET
DTSTART:20271031T010000
END:STANDARD
END:VTIMEZONE
BEGIN:VEVENT
DTSTART;TZID=Europe/Berlin:20260712T080000
DTEND;TZID=Europe/Berlin:20260712T170000
DTSTAMP:20260424T154917
CREATED:20260407T120456Z
LAST-MODIFIED:20260407T120456Z
UID:4896-1783843200-1783875600@www.alde-duesseldorfer.de
SUMMARY:73. Stadtsparkassen-Radschlägerturnier der Alde Düsseldorfer für die Landeshauptstadt Düsseldorf
DESCRIPTION:Leeve Alde\, liebe Freundinnen und Freunde unserer Bürgergesellschaft\, \ndas 73. Turnier seit 1937 steht unter der Schirmherrschaft des Ersten Bürgers unserer Stadt\, Oberbürgermeister und Alde Mitglied Dr. Stephan Keller.  Mit freundlicher Unterstützung der Stadtsparkasse Düsseldorf messen sich Düsseldorfer Schülerinnen und Schüler wieder direkt am Rhein im Radschlagen. \nWir suchen Unterstützung beim Auf- und Abbau. Bitte meldet Euch\, liebe Mitglieder\, unter veranstaltungen@alde-duesseldorfer.de an. \nACHTUNG: EINE ANMELDUNG ZUM TURNIER IST AUSSCHLIESSLICH ÜBER DIE DÜSSELDORFER SCHULEN MÖGLICH. WIR KÖNNEN ÜBER DEN VEREIN AUSNAHMSLOS KEINE ANMELDUNGEN ENTGEGENNEHMEN. \nWeitere Informationen über das Radschlägerturnier haben wir auf unserer Internetseite zusammengefasst. \n  \nÜere Vörstand \nTeilen
URL:https://www.alde-duesseldorfer.de/veranstaltungen/73-stadtsparkassen-radschlaegerturnier-der-alde-duesseldorfer-fuer-die-landeshauptstadt-duesseldorf/
LOCATION:Radschlagertreff am Unteren Rheinwerft\, Unteres Rheinwerft\, Düsseldorf\, 40213
ATTACH;FMTTYPE=image/jpeg:https://www.alde-duesseldorfer.de/wp-content/uploads/2024/09/PXL_20240901_084646176-scaled.jpg
END:VEVENT
END:VCALENDAR